BEGIN:VCALENDAR
VERSION:2.0
PRODID:-//jEvents 2.0 for Joomla//EN
CALSCALE:GREGORIAN
METHOD:PUBLISH
BEGIN:VEVENT
UID:c62d59214ac05b8c85f5c141971d3d34
CATEGORIES:Appuntamenti
CREATED:20260330T105320
SUMMARY:Assemblea Cittadina del PD Monza
LOCATION:via Arosio\, 6 - Monza
DESCRIPTION:Mercoledì 1 aprile alle ore 21 presso la sede di via Arosio, è convocata l'
 Assemblea Cittadina del Partito Democratico di Monza, aperta a tutti gli is
 critti, con il seguente o.d.g.: \n\n - Comunicazioni del Segretario;\n - Ri
 flessioni in merito all’esito del referendum costituzionale;\n - Illustrazi
 one delle prossime iniziative in programma;\n - Surroga tesoriere;\n - Vari
 e ed eventuali. Al termine è previsto un breve brindisi.\n \n
X-ALT-DESC;FMTTYPE=text/html:<p>Mercoledì 1 aprile alle ore 21 presso la sede di via Arosio, è convocata
  l'Assemblea Cittadina del Partito Democratico di Monza, aperta a tutti gli
  iscritti, con il seguente o.d.g.:&nbsp;</p><ol><li>Comunicazioni del Segre
 tario;</li><li>Riflessioni in merito all’esito del referendum costituzional
 e;</li><li>Illustrazione delle prossime iniziative in programma;</li><li>Su
 rroga tesoriere;</li><li>Varie ed eventuali.&nbsp;</li></ol><p>Al termine è
  previsto un breve brindisi.</p><p>&nbsp;</p>
DTSTAMP:20260423T104700
DTSTART:20260401T190000
SEQUENCE:0
TRANSP:OPAQUE
END:VEVENT
END:VCALENDAR