BEGIN:VCALENDAR
VERSION:2.0
PRODID:-//jEvents 2.0 for Joomla//EN
CALSCALE:GREGORIAN
METHOD:PUBLISH
BEGIN:VEVENT
UID:92032b0577abf68a0de7705e7bbced67
CATEGORIES:Appuntamenti
CREATED:20260308T151601
SUMMARY:Volantinaggio per le ragioni del NO - Mercato di San Fruttuoso
DESCRIPTION:Mercoledì 18 marzo dalle 9 alle 12, volantinaggio per le ragioni del NO al 
 mercato di San Fruttuoso. A cura del Circolo 5 PD Monza\n
X-ALT-DESC;FMTTYPE=text/html:<p>Mercoledì 18 marzo dalle 9 alle 12, volantinaggio per le ragioni del NO 
 al mercato di San Fruttuoso. A cura del Circolo 5 PD Monza</p>
DTSTAMP:20260423T132940
DTSTART:20260318T080000
DTEND:20260318T110000
SEQUENCE:0
TRANSP:OPAQUE
END:VEVENT
END:VCALENDAR