BEGIN:VCALENDAR
VERSION:2.0
PRODID:-//jEvents 2.0 for Joomla//EN
CALSCALE:GREGORIAN
METHOD:PUBLISH
BEGIN:VEVENT
UID:28abad0e4dff8715c8b161c5755e8ab8
CATEGORIES:Appuntamenti
CREATED:20260308T151233
SUMMARY:Volantinaggio per le ragioni del NO - Mercato di San Fruttuoso
DESCRIPTION:<p>Mercoledì 11 marzo dalle 9 alle 12, volantinaggio per le ragioni del NO 
 al mercato di San Fruttuoso. A cura del Circolo 5 PD Monza</p>
DTSTAMP:20260423T132938
DTSTART:20260311T080000
DTEND:20260311T110000
SEQUENCE:0
TRANSP:OPAQUE
END:VEVENT
END:VCALENDAR