BEGIN:VCALENDAR
VERSION:2.0
PRODID:-//jEvents 2.0 for Joomla//EN
CALSCALE:GREGORIAN
METHOD:PUBLISH
BEGIN:VEVENT
UID:acdc7e432b079b46b37a03ecbecc7199
CATEGORIES:Appuntamenti
CREATED:20260301T212054
SUMMARY:Volantinaggio per le ragioni del NO - Scuola Volta
DESCRIPTION:<p>Lunedì 2 marzo a partire dalle ore 12:15, volantinaggio per le ragioni d
 el NO presso la Scuola Volta. A cura del Circolo 6 PD Monza.</p>
DTSTAMP:20260423T132200
DTSTART:20260302T111500
SEQUENCE:0
TRANSP:OPAQUE
END:VEVENT
END:VCALENDAR