BEGIN:VCALENDAR
VERSION:2.0
PRODID:-//jEvents 2.0 for Joomla//EN
CALSCALE:GREGORIAN
METHOD:PUBLISH
BEGIN:VEVENT
UID:dea43f3b37602a59c261a81227f4daf5
CATEGORIES:Appuntamenti
CREATED:20260226T000935
SUMMARY:Gazebo: NO alla riforma Nordio
LOCATION:Via Prina/Via Torneamento
DESCRIPTION:<p>Gazebo a cura del Circolo 6 Tina Anselmi con distribuzione di materiale 
 informativo sul referendum costituzionale del 22-23 marzo.</p>
CONTACT:circolo6@pdmonza.org
X-EXTRAINFO:Al gazebo sarà possibile fare o rinnovare la tessera del PD 2026
DTSTAMP:20260423T131440
DTSTART:20260314T083000
DTEND:20260314T113000
SEQUENCE:0
TRANSP:OPAQUE
END:VEVENT
END:VCALENDAR