BEGIN:VCALENDAR
VERSION:2.0
PRODID:-//jEvents 2.0 for Joomla//EN
CALSCALE:GREGORIAN
METHOD:PUBLISH
BEGIN:VEVENT
UID:710fafeff5b99e10e44485810e8a148f
CATEGORIES:Appuntamenti
CREATED:20241208T181551
SUMMARY:Raccolta alimentare al Circolo 6 PD Monza
LOCATION:Centro Civico di via Bellini 6 - Monza
DESCRIPTION:<p><strong>Martedì 17 dicembre&nbsp;<strong>dalle 18 alle 21 </strong></str
 ong>presso il&nbsp;<strong><strong><strong>Centro Civico in via Bellini 6, 
 </strong></strong></strong>il Circolo 6 PD Monza organizza una&nbsp;raccolt
 a di generi vari per una tra le associazioni che operano nei nostri quartie
 ri: la società di San Vincenzo, Conferenze di San Biagio e di San Pio X.</p
 ><p>Sono ben accetti, in particolare:&nbsp;detersivi, prodotti per l’igiene
  personale, latte a lunga conservazione, biscotti, scatolame (tonno, passat
 e di pomodoro, legumi…), marmellate, caffè, panettoni e dolciumi natalizi.<
 /p><p>Chi non potesse consegnare il 17 dicembre, lo potrà fare la mattina d
 el 18 direttamente alla sede della San Vincenzo, via Cattaneo 2, dalle 8 al
 le 12</p>
DTSTAMP:20260423T110206
DTSTART:20241217T170000
DTEND:20241217T200000
SEQUENCE:0
TRANSP:OPAQUE
END:VEVENT
END:VCALENDAR