BEGIN:VCALENDAR
VERSION:2.0
PRODID:-//jEvents 2.0 for Joomla//EN
CALSCALE:GREGORIAN
METHOD:PUBLISH
BEGIN:VEVENT
UID:354ca16a500fc0965f3adb399efb8ced
CATEGORIES:Appuntamenti
CREATED:20240707T192151
SUMMARY:Gazebo PD Monza in Centro a Monza
LOCATION:Via Italia / angolo Piermarini - Monza
DESCRIPTION:<p>Il PD Monza sarà presente sabato 13 luglio dalle ore 9 alle ore 12,30&nb
 sp; in centro a Monza in via Italia angolo via Piermarini, per raccogliere 
 le firme per&nbsp;la&nbsp;<strong>legge popolare sul salario minimo a 9 eur
 o l'ora</strong><span style="background-color: inherit; caret-color: auto;"
 >.</span></p><p>La postazione verrà confermata in settimana e, in caso di l
 uogo diverso, aggiorneremo le informazioni sul sito.</p>
DTSTAMP:20260423T121523
DTSTART:20240713T070000
DTEND:20240713T103000
SEQUENCE:0
TRANSP:OPAQUE
END:VEVENT
END:VCALENDAR