BEGIN:VCALENDAR
VERSION:2.0
PRODID:-//jEvents 2.0 for Joomla//EN
CALSCALE:GREGORIAN
METHOD:PUBLISH
BEGIN:VEVENT
UID:b17340390fc07141febbe77eebb38208
CATEGORIES:Appuntamenti
CREATED:20240630T193143
SUMMARY:Gazebo PD Monza in Centro a Monza
LOCATION:Via Italia / angolo Piermarini - Monza
DESCRIPTION:Il PD Monza sarà presente giovedì 4 luglio dalle ore 9 alle ore 13 in centr
 o a Monza in via Italia / angolo Piermarini,  per raccogliere le firme per 
 la legge popolare sul salario minimo a 9 euro l'ora.\nLa postazione verrà c
 onfermata in settimana e, in caso di luogo diverso, aggiorneremo le informa
 zioni.\n
X-ALT-DESC;FMTTYPE=text/html:<p>Il PD Monza sarà presente giovedì 4 luglio dalle ore 9 alle ore 13 in ce
 ntro a Monza in via Italia / angolo Piermarini,&nbsp; per raccogliere le fi
 rme per la&nbsp;<strong>legge popolare sul salario minimo a 9 euro l'ora</s
 trong><span style="background-color: inherit; caret-color: auto;">.</span><
 /p><p>La postazione verrà confermata in settimana e, in caso di luogo diver
 so, aggiorneremo le informazioni.</p>
DTSTAMP:20260423T105138
DTSTART:20240704T070000
DTEND:20240704T110000
SEQUENCE:0
TRANSP:OPAQUE
END:VEVENT
END:VCALENDAR