BEGIN:VCALENDAR
VERSION:2.0
PRODID:-//jEvents 2.0 for Joomla//EN
CALSCALE:GREGORIAN
METHOD:PUBLISH
BEGIN:VEVENT
UID:2b4df74f367f21ccfdb0e5ba93079b21
CATEGORIES:Appuntamenti
CREATED:20240511T225613
SUMMARY:Gazebo PD Monza in Centro a Monza
LOCATION:Via Italia ang. v. Piermarini  - Monza
DESCRIPTION:<p>Il PD Monza sarà presente domenica 26 maggio dalle ore 10 alle ore 18 in
  centro a Monza in&nbsp;via Italia ang. v. Piermarini,&nbsp; per diffondere
  materiale e informazioni sulle prossime<strong>&nbsp;elezioni europee</str
 ong>.&nbsp;</p><p>Sarà anche possibile&nbsp;<strong>firmare la proposta di 
 legge di iniziativa popolare sulla Sanità&nbsp;</strong>preparata dal nostr
 o Gruppo dem in Regione Lombardia.</p>
DTSTAMP:20260423T121505
DTSTART:20240526T080000
DTEND:20240526T160000
SEQUENCE:0
TRANSP:OPAQUE
END:VEVENT
END:VCALENDAR